BEGIN:VCALENDAR
VERSION:2.0
PRODID:-//Br0nw3n&#039;s World - ECPv6.15.20//NONSGML v1.0//EN
CALSCALE:GREGORIAN
METHOD:PUBLISH
X-WR-CALNAME:Br0nw3n&#039;s World
X-ORIGINAL-URL:https://br0nw3n.com
X-WR-CALDESC:Events for Br0nw3n&#039;s World
REFRESH-INTERVAL;VALUE=DURATION:PT1H
X-Robots-Tag:noindex
X-PUBLISHED-TTL:PT1H
BEGIN:VTIMEZONE
TZID:America/Los_Angeles
BEGIN:DAYLIGHT
TZOFFSETFROM:-0800
TZOFFSETTO:-0700
TZNAME:PDT
DTSTART:20250309T100000
END:DAYLIGHT
BEGIN:STANDARD
TZOFFSETFROM:-0700
TZOFFSETTO:-0800
TZNAME:PST
DTSTART:20251102T090000
END:STANDARD
BEGIN:DAYLIGHT
TZOFFSETFROM:-0800
TZOFFSETTO:-0700
TZNAME:PDT
DTSTART:20260308T100000
END:DAYLIGHT
BEGIN:STANDARD
TZOFFSETFROM:-0700
TZOFFSETTO:-0800
TZNAME:PST
DTSTART:20261101T090000
END:STANDARD
BEGIN:DAYLIGHT
TZOFFSETFROM:-0800
TZOFFSETTO:-0700
TZNAME:PDT
DTSTART:20270314T100000
END:DAYLIGHT
BEGIN:STANDARD
TZOFFSETFROM:-0700
TZOFFSETTO:-0800
TZNAME:PST
DTSTART:20271107T090000
END:STANDARD
END:VTIMEZONE
BEGIN:VEVENT
DTSTART;VALUE=DATE:20261006
DTEND;VALUE=DATE:20261010
DTSTAMP:20260421T083854
CREATED:20260327T230716Z
LAST-MODIFIED:20260327T230716Z
UID:27138-1791244800-1791590399@br0nw3n.com
SUMMARY:WWHF Deadwood 2026
DESCRIPTION:Pre-Conference Training: October 6th-7th \nLevel up with Antisyphon Training before the main event. Whether you’re just starting out in cybersecurity or you’re a seasoned professional\, you’ll be able to find something to help advance your skillset. Make sure to check out this year’s lineup of courses. \nLive In-Person & Virtual Conference: October 7th-9th \nEvery WWHF brings technical talks\, hands-on workshops and labs\, expert-led training\, and some occasional mechanical bull riding—along with countless chances to connect with others.
URL:https://br0nw3n.com/event/wwhf-deadwood-2026/
LOCATION:Deadwood Mountain Grand Hotel\, 1906 Deadwood Mountain Drive\, Deadwood\, SD\, 57732\, United States
CATEGORIES:Conference
ATTACH;FMTTYPE=image/webp:https://br0nw3n.com/wp-content/uploads/Devils-Tower-widescreen-with-border.webp
END:VEVENT
END:VCALENDAR