BEGIN:VCALENDAR
VERSION:2.0
PRODID:-//Br0nw3n&#039;s World - ECPv6.15.20//NONSGML v1.0//EN
CALSCALE:GREGORIAN
METHOD:PUBLISH
X-WR-CALNAME:Br0nw3n&#039;s World
X-ORIGINAL-URL:https://br0nw3n.com
X-WR-CALDESC:Events for Br0nw3n&#039;s World
REFRESH-INTERVAL;VALUE=DURATION:PT1H
X-Robots-Tag:noindex
X-PUBLISHED-TTL:PT1H
BEGIN:VTIMEZONE
TZID:America/Los_Angeles
BEGIN:DAYLIGHT
TZOFFSETFROM:-0800
TZOFFSETTO:-0700
TZNAME:PDT
DTSTART:20250309T100000
END:DAYLIGHT
BEGIN:STANDARD
TZOFFSETFROM:-0700
TZOFFSETTO:-0800
TZNAME:PST
DTSTART:20251102T090000
END:STANDARD
BEGIN:DAYLIGHT
TZOFFSETFROM:-0800
TZOFFSETTO:-0700
TZNAME:PDT
DTSTART:20260308T100000
END:DAYLIGHT
BEGIN:STANDARD
TZOFFSETFROM:-0700
TZOFFSETTO:-0800
TZNAME:PST
DTSTART:20261101T090000
END:STANDARD
BEGIN:DAYLIGHT
TZOFFSETFROM:-0800
TZOFFSETTO:-0700
TZNAME:PDT
DTSTART:20270314T100000
END:DAYLIGHT
BEGIN:STANDARD
TZOFFSETFROM:-0700
TZOFFSETTO:-0800
TZNAME:PST
DTSTART:20271107T090000
END:STANDARD
END:VTIMEZONE
BEGIN:VEVENT
DTSTART;VALUE=DATE:20260217
DTEND;VALUE=DATE:20260218
DTSTAMP:20260420T111449
CREATED:20251229T091155Z
LAST-MODIFIED:20251229T091256Z
UID:26884-1771286400-1771372799@br0nw3n.com
SUMMARY:Chinese/Lunar New Year 2026 - Year of the Horse
DESCRIPTION:Happy Chinese/Lunar New Year 2026\nYear of the Horse
URL:https://br0nw3n.com/event/chinese-lunar-new-year-2026-year-of-the-horse/
CATEGORIES:Holiday
ATTACH;FMTTYPE=image/jpeg:https://br0nw3n.com/wp-content/uploads/lunar-new-year-chinese-new-year-2026-year-of-the-vector-55602295.jpg
END:VEVENT
END:VCALENDAR