BEGIN:VCALENDAR
VERSION:2.0
PRODID:-//Br0nw3n&#039;s World - ECPv6.15.20//NONSGML v1.0//EN
CALSCALE:GREGORIAN
METHOD:PUBLISH
X-WR-CALNAME:Br0nw3n&#039;s World
X-ORIGINAL-URL:https://br0nw3n.com
X-WR-CALDESC:Events for Br0nw3n&#039;s World
REFRESH-INTERVAL;VALUE=DURATION:PT1H
X-Robots-Tag:noindex
X-PUBLISHED-TTL:PT1H
BEGIN:VTIMEZONE
TZID:America/Los_Angeles
BEGIN:DAYLIGHT
TZOFFSETFROM:-0800
TZOFFSETTO:-0700
TZNAME:PDT
DTSTART:20240310T100000
END:DAYLIGHT
BEGIN:STANDARD
TZOFFSETFROM:-0700
TZOFFSETTO:-0800
TZNAME:PST
DTSTART:20241103T090000
END:STANDARD
BEGIN:DAYLIGHT
TZOFFSETFROM:-0800
TZOFFSETTO:-0700
TZNAME:PDT
DTSTART:20250309T100000
END:DAYLIGHT
BEGIN:STANDARD
TZOFFSETFROM:-0700
TZOFFSETTO:-0800
TZNAME:PST
DTSTART:20251102T090000
END:STANDARD
BEGIN:DAYLIGHT
TZOFFSETFROM:-0800
TZOFFSETTO:-0700
TZNAME:PDT
DTSTART:20260308T100000
END:DAYLIGHT
BEGIN:STANDARD
TZOFFSETFROM:-0700
TZOFFSETTO:-0800
TZNAME:PST
DTSTART:20261101T090000
END:STANDARD
END:VTIMEZONE
BEGIN:VEVENT
DTSTART;VALUE=DATE:20251221
DTEND;VALUE=DATE:20251222
DTSTAMP:20260420T141241
CREATED:20251222T200114Z
LAST-MODIFIED:20251222T200114Z
UID:26840-1766275200-1766361599@br0nw3n.com
SUMMARY:December Solstice 2025
DESCRIPTION:A solstice is an astronomical event that occurs twice a year when the Sun reaches its highest or lowest point in the sky at noon\, resulting in the longest or shortest day of the year. In the Northern Hemisphere\, the winter solstice occurs around December 21\, marking the shortest day\, while the summer solstice occurs around June 21\, marking the longest day. \n 
URL:https://br0nw3n.com/event/december-solstice-2025/
CATEGORIES:Holiday
ATTACH;FMTTYPE=image/jpeg:https://br0nw3n.com/wp-content/uploads/Sonehenge-Solstice.jpg
END:VEVENT
BEGIN:VEVENT
DTSTART;VALUE=DATE:20251225
DTEND;VALUE=DATE:20251226
DTSTAMP:20260420T141241
CREATED:20251222T200709Z
LAST-MODIFIED:20251222T200709Z
UID:26843-1766620800-1766707199@br0nw3n.com
SUMMARY:Christmas 2025
DESCRIPTION:May this Christmas season fill you with light and joy.
URL:https://br0nw3n.com/event/christmas-2025/
CATEGORIES:Holiday
ATTACH;FMTTYPE=image/jpeg:https://br0nw3n.com/wp-content/uploads/Boynton-LiveXmasTree.jpg
END:VEVENT
END:VCALENDAR